BEGIN:VCALENDAR
VERSION:2.0
PRODID:-//NetAuktion//NONSGML NetAuktion//SV
METHOD:PUBLISH
BEGIN:VEVENT
UID:20260425T123427-826452238-netauktion.se
DTSTAMP:20260425T123427
DTSTART:20090521T030500
DTEND:20090521T030800
SUMMARY:Netauktion objekt 0201-055 Auktionspåminnelse
DESCRIPTION:Länk till objektet du var intresserad av: https://staging.netauktion.se/auktion/produkt/nya-scubapro-twin-jet-max-roda-stl-s-2
END:VEVENT
END:VCALENDAR
