BEGIN:VCALENDAR
VERSION:2.0
PRODID:-//NetAuktion//NONSGML NetAuktion//SV
METHOD:PUBLISH
BEGIN:VEVENT
UID:20260425T123254-615479158-netauktion.se
DTSTAMP:20260425T123254
DTSTART:20090521T020500
DTEND:20090521T020800
SUMMARY:Netauktion objekt 0201-062 Auktionspåminnelse
DESCRIPTION:Länk till objektet du var intresserad av: https://staging.netauktion.se/auktion/produkt/nya-scubapro-twin-jet-max-gula-stl-s-6
END:VEVENT
END:VCALENDAR
