BEGIN:VCALENDAR
VERSION:2.0
PRODID:-//NetAuktion//NONSGML NetAuktion//SV
METHOD:PUBLISH
BEGIN:VEVENT
UID:20260425T134249-639635391-netauktion.se
DTSTAMP:20260425T134249
DTSTART:20090521T011300
DTEND:20090521T011600
SUMMARY:Netauktion objekt 0128-126 Auktionspåminnelse
DESCRIPTION:Länk till objektet du var intresserad av: https://staging.netauktion.se/auktion/produkt/lysror-dokumentforstorare-och-datakablar
END:VEVENT
END:VCALENDAR
