BEGIN:VCALENDAR
VERSION:2.0
PRODID:-//NetAuktion//NONSGML NetAuktion//SV
METHOD:PUBLISH
BEGIN:VEVENT
UID:20260421T102803-1825910125-netauktion.se
DTSTAMP:20260421T102803
DTSTART:20130227T010500
DTEND:20130227T010800
SUMMARY:Netauktion objekt 1289-006 Auktionspåminnelse
DESCRIPTION:Länk till objektet du var intresserad av: https://staging.netauktion.se/auktion/produkt/ca-40st-glas-orrefors
END:VEVENT
END:VCALENDAR
