BEGIN:VCALENDAR
VERSION:2.0
PRODID:-//NetAuktion//NONSGML NetAuktion//SV
METHOD:PUBLISH
BEGIN:VEVENT
UID:20260421T104457-1223767790-netauktion.se
DTSTAMP:20260421T104457
DTSTART:20130227T010700
DTEND:20130227T011000
SUMMARY:Netauktion objekt 1289-008 Auktionspåminnelse
DESCRIPTION:Länk till objektet du var intresserad av: https://staging.netauktion.se/auktion/produkt/tavla-motiv-landskap
END:VEVENT
END:VCALENDAR
