BEGIN:VCALENDAR
VERSION:2.0
PRODID:-//NetAuktion//NONSGML NetAuktion//SV
METHOD:PUBLISH
BEGIN:VEVENT
UID:20260421T102837-476310933-netauktion.se
DTSTAMP:20260421T102837
DTSTART:20130227T010300
DTEND:20130227T010600
SUMMARY:Netauktion objekt 1289-004 Auktionspåminnelse
DESCRIPTION:Länk till objektet du var intresserad av: https://staging.netauktion.se/auktion/produkt/kristallkrona-4
END:VEVENT
END:VCALENDAR
