BEGIN:VCALENDAR
VERSION:2.0
PRODID:-//NetAuktion//NONSGML NetAuktion//SV
METHOD:PUBLISH
BEGIN:VEVENT
UID:20260421T104430-2110775884-netauktion.se
DTSTAMP:20260421T104430
DTSTART:20130227T011000
DTEND:20130227T011300
SUMMARY:Netauktion objekt 1289-011 Auktionspåminnelse
DESCRIPTION:Länk till objektet du var intresserad av: https://staging.netauktion.se/auktion/produkt/kaffeservis-platina-ca-25-delar
END:VEVENT
END:VCALENDAR
