BEGIN:VCALENDAR
VERSION:2.0
PRODID:-//NetAuktion//NONSGML NetAuktion//SV
METHOD:PUBLISH
BEGIN:VEVENT
UID:20260421T102705-1166742219-netauktion.se
DTSTAMP:20260421T102705
DTSTART:20130226T033600
DTEND:20130226T033900
SUMMARY:Netauktion objekt 1376-089 Auktionspåminnelse
DESCRIPTION:Länk till objektet du var intresserad av: https://staging.netauktion.se/auktion/produkt/3st-hyllor-och-1st-byra
END:VEVENT
END:VCALENDAR
