BEGIN:VCALENDAR
VERSION:2.0
PRODID:-//NetAuktion//NONSGML NetAuktion//SV
METHOD:PUBLISH
BEGIN:VEVENT
UID:20260421T104306-683488739-netauktion.se
DTSTAMP:20260421T104306
DTSTART:20130226T034800
DTEND:20130226T035100
SUMMARY:Netauktion objekt 1376-090 Auktionspåminnelse
DESCRIPTION:Länk till objektet du var intresserad av: https://staging.netauktion.se/auktion/produkt/butikshylla-med-glasplan-och-belysning
END:VEVENT
END:VCALENDAR
