BEGIN:VCALENDAR
VERSION:2.0
PRODID:-//NetAuktion//NONSGML NetAuktion//SV
METHOD:PUBLISH
BEGIN:VEVENT
UID:20260421T104455-577208120-netauktion.se
DTSTAMP:20260421T104455
DTSTART:20130226T034100
DTEND:20130226T034400
SUMMARY:Netauktion objekt 1376-091 Auktionspåminnelse
DESCRIPTION:Länk till objektet du var intresserad av: https://staging.netauktion.se/auktion/produkt/butikshylla-med-innehall-3
END:VEVENT
END:VCALENDAR
