BEGIN:VCALENDAR
VERSION:2.0
PRODID:-//NetAuktion//NONSGML NetAuktion//SV
METHOD:PUBLISH
BEGIN:VEVENT
UID:20260421T102932-842840687-netauktion.se
DTSTAMP:20260421T102932
DTSTART:20130226T035300
DTEND:20130226T035600
SUMMARY:Netauktion objekt 1376-143 Auktionspåminnelse
DESCRIPTION:Länk till objektet du var intresserad av: https://staging.netauktion.se/auktion/produkt/butiksinventarier-7st-hyllor
END:VEVENT
END:VCALENDAR
