BEGIN:VCALENDAR
VERSION:2.0
PRODID:-//NetAuktion//NONSGML NetAuktion//SV
METHOD:PUBLISH
BEGIN:VEVENT
UID:20260421T104426-141242182-netauktion.se
DTSTAMP:20260421T104426
DTSTART:20130226T034300
DTEND:20130226T034600
SUMMARY:Netauktion objekt 1376-144 Auktionspåminnelse
DESCRIPTION:Länk till objektet du var intresserad av: https://staging.netauktion.se/auktion/produkt/butiksinventarier-9st-hyllor
END:VEVENT
END:VCALENDAR
