BEGIN:VCALENDAR
VERSION:2.0
PRODID:-//NetAuktion//NONSGML NetAuktion//SV
METHOD:PUBLISH
BEGIN:VEVENT
UID:20260421T102852-947651812-netauktion.se
DTSTAMP:20260421T102852
DTSTART:20130226T034600
DTEND:20130226T034900
SUMMARY:Netauktion objekt 1376-148 Auktionspåminnelse
DESCRIPTION:Länk till objektet du var intresserad av: https://staging.netauktion.se/auktion/produkt/kassaapparat-med-kortdragare
END:VEVENT
END:VCALENDAR
