BEGIN:VCALENDAR
VERSION:2.0
PRODID:-//NetAuktion//NONSGML NetAuktion//SV
METHOD:PUBLISH
BEGIN:VEVENT
UID:20260425T134249-478346000-netauktion.se
DTSTAMP:20260425T134249
DTSTART:20090514T015700
DTEND:20090514T020000
SUMMARY:Netauktion objekt 0252-001 Auktionspåminnelse
DESCRIPTION:Länk till objektet du var intresserad av: https://staging.netauktion.se/auktion/produkt/damtjejklader-nyare-kollektion-storlek-small
END:VEVENT
END:VCALENDAR
