BEGIN:VCALENDAR
VERSION:2.0
PRODID:-//NetAuktion//NONSGML NetAuktion//SV
METHOD:PUBLISH
BEGIN:VEVENT
UID:20260425T134314-1292815742-netauktion.se
DTSTAMP:20260425T134314
DTSTART:20090514T015900
DTEND:20090514T020200
SUMMARY:Netauktion objekt 0252-002 Auktionspåminnelse
DESCRIPTION:Länk till objektet du var intresserad av: https://staging.netauktion.se/auktion/produkt/damtjejklader-nyare-kollektion-storlek-medium
END:VEVENT
END:VCALENDAR
