BEGIN:VCALENDAR
VERSION:2.0
PRODID:-//NetAuktion//NONSGML NetAuktion//SV
METHOD:PUBLISH
BEGIN:VEVENT
UID:20260425T134355-641510612-netauktion.se
DTSTAMP:20260425T134355
DTSTART:20090514T015900
DTEND:20090514T020200
SUMMARY:Netauktion objekt 0252-003 Auktionspåminnelse
DESCRIPTION:Länk till objektet du var intresserad av: https://staging.netauktion.se/auktion/produkt/damtjejklader-nyare-kollektion-storlek-mest-small
END:VEVENT
END:VCALENDAR
