BEGIN:VCALENDAR
VERSION:2.0
PRODID:-//NetAuktion//NONSGML NetAuktion//SV
METHOD:PUBLISH
BEGIN:VEVENT
UID:20260425T134248-1803754237-netauktion.se
DTSTAMP:20260425T134248
DTSTART:20090514T020000
DTEND:20090514T020300
SUMMARY:Netauktion objekt 0252-004 Auktionspåminnelse
DESCRIPTION:Länk till objektet du var intresserad av: https://staging.netauktion.se/auktion/produkt/damtjejklader-nyare-kollektion-storlek-large
END:VEVENT
END:VCALENDAR
