BEGIN:VCALENDAR
VERSION:2.0
PRODID:-//NetAuktion//NONSGML NetAuktion//SV
METHOD:PUBLISH
BEGIN:VEVENT
UID:20260425T134348-881937787-netauktion.se
DTSTAMP:20260425T134348
DTSTART:20090514T020100
DTEND:20090514T020400
SUMMARY:Netauktion objekt 0252-005 Auktionspåminnelse
DESCRIPTION:Länk till objektet du var intresserad av: https://staging.netauktion.se/auktion/produkt/damtjejklader-nyare-kollektion-blandade-storlekar
END:VEVENT
END:VCALENDAR
