BEGIN:VCALENDAR
VERSION:2.0
PRODID:-//NetAuktion//NONSGML NetAuktion//SV
METHOD:PUBLISH
BEGIN:VEVENT
UID:20260425T134312-1231358328-netauktion.se
DTSTAMP:20260425T134312
DTSTART:20090514T020200
DTEND:20090514T020500
SUMMARY:Netauktion objekt 0252-006 Auktionspåminnelse
DESCRIPTION:Länk till objektet du var intresserad av: https://staging.netauktion.se/auktion/produkt/herrkillklader-nyare-kollektion-small-till-x-large
END:VEVENT
END:VCALENDAR
