BEGIN:VCALENDAR
VERSION:2.0
PRODID:-//NetAuktion//NONSGML NetAuktion//SV
METHOD:PUBLISH
BEGIN:VEVENT
UID:20260425T134314-1925574599-netauktion.se
DTSTAMP:20260425T134314
DTSTART:20090514T020400
DTEND:20090514T020700
SUMMARY:Netauktion objekt 0252-008 Auktionspåminnelse
DESCRIPTION:Länk till objektet du var intresserad av: https://staging.netauktion.se/auktion/produkt/smycken-i-bla-silver-vaska-skor-mm
END:VEVENT
END:VCALENDAR
