BEGIN:VCALENDAR
VERSION:2.0
PRODID:-//NetAuktion//NONSGML NetAuktion//SV
METHOD:PUBLISH
BEGIN:VEVENT
UID:20260425T134250-60589679-netauktion.se
DTSTAMP:20260425T134250
DTSTART:20090514T020500
DTEND:20090514T020800
SUMMARY:Netauktion objekt 0252-009 Auktionspåminnelse
DESCRIPTION:Länk till objektet du var intresserad av: https://staging.netauktion.se/auktion/produkt/boxershorts-kay-jay-ca-110-par-storlek-s-och-m
END:VEVENT
END:VCALENDAR
