BEGIN:VCALENDAR
VERSION:2.0
PRODID:-//NetAuktion//NONSGML NetAuktion//SV
METHOD:PUBLISH
BEGIN:VEVENT
UID:20260425T134425-1209004489-netauktion.se
DTSTAMP:20260425T134425
DTSTART:20090514T020700
DTEND:20090514T021000
SUMMARY:Netauktion objekt 0252-010 Auktionspåminnelse
DESCRIPTION:Länk till objektet du var intresserad av: https://staging.netauktion.se/auktion/produkt/damvaska-i-alskinn-becksondergaard-copenhagen
END:VEVENT
END:VCALENDAR
