BEGIN:VCALENDAR
VERSION:2.0
PRODID:-//NetAuktion//NONSGML NetAuktion//SV
METHOD:PUBLISH
BEGIN:VEVENT
UID:20260425T134313-463793141-netauktion.se
DTSTAMP:20260425T134313
DTSTART:20090514T022300
DTEND:20090514T022600
SUMMARY:Netauktion objekt 0252-012 Auktionspåminnelse
DESCRIPTION:Länk till objektet du var intresserad av: https://staging.netauktion.se/auktion/produkt/elektroniskt-varularm-sk-larmbage-forsec-ab
END:VEVENT
END:VCALENDAR
