BEGIN:VCALENDAR
VERSION:2.0
PRODID:-//NetAuktion//NONSGML NetAuktion//SV
METHOD:PUBLISH
BEGIN:VEVENT
UID:20260425T134314-502967878-netauktion.se
DTSTAMP:20260425T134314
DTSTART:20090514T021300
DTEND:20090514T021600
SUMMARY:Netauktion objekt 0252-013 Auktionspåminnelse
DESCRIPTION:Länk till objektet du var intresserad av: https://staging.netauktion.se/auktion/produkt/babs-terminal-money-line-s-3000
END:VEVENT
END:VCALENDAR
