BEGIN:VCALENDAR
VERSION:2.0
PRODID:-//NetAuktion//NONSGML NetAuktion//SV
METHOD:PUBLISH
BEGIN:VEVENT
UID:20260421T102705-1888890698-netauktion.se
DTSTAMP:20260421T102705
DTSTART:20090626T010800
DTEND:20090626T011100
SUMMARY:Netauktion objekt 0246-006 Auktionspåminnelse
DESCRIPTION:Länk till objektet du var intresserad av: https://staging.netauktion.se/auktion/produkt/2st-barbara-datorer
END:VEVENT
END:VCALENDAR
