BEGIN:VCALENDAR
VERSION:2.0
PRODID:-//NetAuktion//NONSGML NetAuktion//SV
METHOD:PUBLISH
BEGIN:VEVENT
UID:20260421T102707-1620489450-netauktion.se
DTSTAMP:20260421T102707
DTSTART:20090626T011200
DTEND:20090626T011500
SUMMARY:Netauktion objekt 0255-004 Auktionspåminnelse
DESCRIPTION:Länk till objektet du var intresserad av: https://staging.netauktion.se/auktion/produkt/mobiltelefon-sony-ericsson-p990i
END:VEVENT
END:VCALENDAR
