BEGIN:VCALENDAR
VERSION:2.0
PRODID:-//NetAuktion//NONSGML NetAuktion//SV
METHOD:PUBLISH
BEGIN:VEVENT
UID:20260421T104322-1157723899-netauktion.se
DTSTAMP:20260421T104322
DTSTART:20090430T010400
DTEND:20090430T010700
SUMMARY:Netauktion objekt 0241-107 Auktionspåminnelse
DESCRIPTION:Länk till objektet du var intresserad av: https://staging.netauktion.se/auktion/produkt/3-livbojer
END:VEVENT
END:VCALENDAR
