BEGIN:VCALENDAR
VERSION:2.0
PRODID:-//NetAuktion//NONSGML NetAuktion//SV
METHOD:PUBLISH
BEGIN:VEVENT
UID:20260421T102801-461598075-netauktion.se
DTSTAMP:20260421T102801
DTSTART:20130329T010600
DTEND:20130329T010900
SUMMARY:Netauktion objekt 1377-025 Auktionspåminnelse
DESCRIPTION:Länk till objektet du var intresserad av: https://staging.netauktion.se/auktion/produkt/2-st-ultraljudstvatt-vbg-2000-10
END:VEVENT
END:VCALENDAR
