BEGIN:VCALENDAR
VERSION:2.0
PRODID:-//NetAuktion//NONSGML NetAuktion//SV
METHOD:PUBLISH
BEGIN:VEVENT
UID:20260421T104457-1511405460-netauktion.se
DTSTAMP:20260421T104457
DTSTART:20130329T010800
DTEND:20130329T011100
SUMMARY:Netauktion objekt 1377-028 Auktionspåminnelse
DESCRIPTION:Länk till objektet du var intresserad av: https://staging.netauktion.se/auktion/produkt/2-st-ultraljudstvatt-vbg-2000-5
END:VEVENT
END:VCALENDAR
