BEGIN:VCALENDAR
VERSION:2.0
PRODID:-//NetAuktion//NONSGML NetAuktion//SV
METHOD:PUBLISH
BEGIN:VEVENT
UID:20260421T103136-1501470126-netauktion.se
DTSTAMP:20260421T103136
DTSTART:20130227T013500
DTEND:20130227T013800
SUMMARY:Netauktion objekt 1146-147 Auktionspåminnelse
DESCRIPTION:Länk till objektet du var intresserad av: https://staging.netauktion.se/auktion/produkt/ringar-nezza-chris-forever-mfl-16mm
END:VEVENT
END:VCALENDAR
