BEGIN:VCALENDAR
VERSION:2.0
PRODID:-//NetAuktion//NONSGML NetAuktion//SV
METHOD:PUBLISH
BEGIN:VEVENT
UID:20260421T104323-1726028552-netauktion.se
DTSTAMP:20260421T104323
DTSTART:20130227T014200
DTEND:20130227T014500
SUMMARY:Netauktion objekt 1146-156 Auktionspåminnelse
DESCRIPTION:Länk till objektet du var intresserad av: https://staging.netauktion.se/auktion/produkt/ringar-nezza-chris-forever-mfl-20mm
END:VEVENT
END:VCALENDAR
