BEGIN:VCALENDAR
VERSION:2.0
PRODID:-//NetAuktion//NONSGML NetAuktion//SV
METHOD:PUBLISH
BEGIN:VEVENT
UID:20260421T104559-1145323369-netauktion.se
DTSTAMP:20260421T104559
DTSTART:20130531T020600
DTEND:20130531T020900
SUMMARY:Netauktion objekt 1146-159 Auktionspåminnelse
DESCRIPTION:Länk till objektet du var intresserad av: https://staging.netauktion.se/auktion/produkt/ringar-nezza-chris-forever-mfl-20mm-2
END:VEVENT
END:VCALENDAR
