BEGIN:VCALENDAR
VERSION:2.0
PRODID:-//NetAuktion//NONSGML NetAuktion//SV
METHOD:PUBLISH
BEGIN:VEVENT
UID:20260421T102745-273740139-netauktion.se
DTSTAMP:20260421T102745
DTSTART:20130329T015800
DTEND:20130329T020100
SUMMARY:Netauktion objekt 1391-027 Auktionspåminnelse
DESCRIPTION:Länk till objektet du var intresserad av: https://staging.netauktion.se/auktion/produkt/5st-par-skor-storlek-36-365
END:VEVENT
END:VCALENDAR
