BEGIN:VCALENDAR
VERSION:2.0
PRODID:-//NetAuktion//NONSGML NetAuktion//SV
METHOD:PUBLISH
BEGIN:VEVENT
UID:20260421T103006-1619650040-netauktion.se
DTSTAMP:20260421T103006
DTSTART:20130329T015700
DTEND:20130329T020000
SUMMARY:Netauktion objekt 1391-030 Auktionspåminnelse
DESCRIPTION:Länk till objektet du var intresserad av: https://staging.netauktion.se/auktion/produkt/3st-par-skor-storlek-35
END:VEVENT
END:VCALENDAR
