BEGIN:VCALENDAR
VERSION:2.0
PRODID:-//NetAuktion//NONSGML NetAuktion//SV
METHOD:PUBLISH
BEGIN:VEVENT
UID:20260421T103032-314897089-netauktion.se
DTSTAMP:20260421T103032
DTSTART:20130329T014800
DTEND:20130329T015100
SUMMARY:Netauktion objekt 1391-093 Auktionspåminnelse
DESCRIPTION:Länk till objektet du var intresserad av: https://staging.netauktion.se/auktion/produkt/damklader-clique-casall-strl-38
END:VEVENT
END:VCALENDAR
