BEGIN:VCALENDAR
VERSION:2.0
PRODID:-//NetAuktion//NONSGML NetAuktion//SV
METHOD:PUBLISH
BEGIN:VEVENT
UID:20260421T103128-167236180-netauktion.se
DTSTAMP:20260421T103128
DTSTART:20130329T014300
DTEND:20130329T014600
SUMMARY:Netauktion objekt 1391-103 Auktionspåminnelse
DESCRIPTION:Länk till objektet du var intresserad av: https://staging.netauktion.se/auktion/produkt/4st-par-damshorts-nike-strl-1214
END:VEVENT
END:VCALENDAR
