BEGIN:VCALENDAR
VERSION:2.0
PRODID:-//NetAuktion//NONSGML NetAuktion//SV
METHOD:PUBLISH
BEGIN:VEVENT
UID:20260421T104400-1154269811-netauktion.se
DTSTAMP:20260421T104400
DTSTART:20130329T014200
DTEND:20130329T014500
SUMMARY:Netauktion objekt 1391-107 Auktionspåminnelse
DESCRIPTION:Länk till objektet du var intresserad av: https://staging.netauktion.se/auktion/produkt/barnklader-puma-champion-nike-unihoc-strl-140
END:VEVENT
END:VCALENDAR
