BEGIN:VCALENDAR
VERSION:2.0
PRODID:-//NetAuktion//NONSGML NetAuktion//SV
METHOD:PUBLISH
BEGIN:VEVENT
UID:20260421T104311-1460575097-netauktion.se
DTSTAMP:20260421T104311
DTSTART:20080620T031200
DTEND:20080620T031500
SUMMARY:Netauktion objekt 0019-008 Auktionspåminnelse
DESCRIPTION:Länk till objektet du var intresserad av: https://staging.netauktion.se/auktion/produkt/husvagn-rc-caravans-460t
END:VEVENT
END:VCALENDAR
