BEGIN:VCALENDAR
VERSION:2.0
PRODID:-//NetAuktion//NONSGML NetAuktion//SV
METHOD:PUBLISH
BEGIN:VEVENT
UID:20260421T104429-1995688691-netauktion.se
DTSTAMP:20260421T104429
DTSTART:20130329T013800
DTEND:20130329T014100
SUMMARY:Netauktion objekt 1391-138 Auktionspåminnelse
DESCRIPTION:Länk till objektet du var intresserad av: https://staging.netauktion.se/auktion/produkt/sportklader-herr-strl-l-3
END:VEVENT
END:VCALENDAR
