BEGIN:VCALENDAR
VERSION:2.0
PRODID:-//NetAuktion//NONSGML NetAuktion//SV
METHOD:PUBLISH
BEGIN:VEVENT
UID:20260425T134425-50464202-netauktion.se
DTSTAMP:20260425T134425
DTSTART:20090515T010600
DTEND:20090515T010900
SUMMARY:Netauktion objekt 0128-129 Auktionspåminnelse
DESCRIPTION:Länk till objektet du var intresserad av: https://staging.netauktion.se/auktion/produkt/manoverpanel-med-ir-inlarning
END:VEVENT
END:VCALENDAR
