BEGIN:VCALENDAR
VERSION:2.0
PRODID:-//NetAuktion//NONSGML NetAuktion//SV
METHOD:PUBLISH
BEGIN:VEVENT
UID:20260425T134347-2067466318-netauktion.se
DTSTAMP:20260425T134347
DTSTART:20090521T011700
DTEND:20090521T012000
SUMMARY:Netauktion objekt 0128-130 Auktionspåminnelse
DESCRIPTION:Länk till objektet du var intresserad av: https://staging.netauktion.se/auktion/produkt/5st-datorvaskorprojektorvaskor
END:VEVENT
END:VCALENDAR
