BEGIN:VCALENDAR
VERSION:2.0
PRODID:-//NetAuktion//NONSGML NetAuktion//SV
METHOD:PUBLISH
BEGIN:VEVENT
UID:20260425T134424-1654250823-netauktion.se
DTSTAMP:20260425T134424
DTSTART:20090521T011800
DTEND:20090521T012100
SUMMARY:Netauktion objekt 0128-131 Auktionspåminnelse
DESCRIPTION:Länk till objektet du var intresserad av: https://staging.netauktion.se/auktion/produkt/2st-vadderade-lasbara-harda-vaskor
END:VEVENT
END:VCALENDAR
