BEGIN:VCALENDAR
VERSION:2.0
PRODID:-//NetAuktion//NONSGML NetAuktion//SV
METHOD:PUBLISH
BEGIN:VEVENT
UID:20260421T104438-208647921-netauktion.se
DTSTAMP:20260421T104438
DTSTART:20130327T002400
DTEND:20130327T002700
SUMMARY:Netauktion objekt 1324-030 Auktionspåminnelse
DESCRIPTION:Länk till objektet du var intresserad av: https://staging.netauktion.se/auktion/produkt/datorpaket-dell-vostro-230-15-5-2-7-5
END:VEVENT
END:VCALENDAR
