BEGIN:VCALENDAR
VERSION:2.0
PRODID:-//NetAuktion//NONSGML NetAuktion//SV
METHOD:PUBLISH
BEGIN:VEVENT
UID:20260421T104306-413599923-netauktion.se
DTSTAMP:20260421T104306
DTSTART:20080620T031300
DTEND:20080620T031600
SUMMARY:Netauktion objekt 0043-001 Auktionspåminnelse
DESCRIPTION:Länk till objektet du var intresserad av: https://staging.netauktion.se/auktion/produkt/volvo-745-gl
END:VEVENT
END:VCALENDAR
