BEGIN:VCALENDAR
VERSION:2.0
PRODID:-//NetAuktion//NONSGML NetAuktion//SV
METHOD:PUBLISH
BEGIN:VEVENT
UID:20260425T122155-553906971-netauktion.se
DTSTAMP:20260425T122155
DTSTART:20090521T020200
DTEND:20090521T020500
SUMMARY:Netauktion objekt 0201-111 Auktionspåminnelse
DESCRIPTION:Länk till objektet du var intresserad av: https://staging.netauktion.se/auktion/produkt/nya-scubapro-twin-jet-max-gula-stl-s-5
END:VEVENT
END:VCALENDAR
