BEGIN:VCALENDAR
VERSION:2.0
PRODID:-//NetAuktion//NONSGML NetAuktion//SV
METHOD:PUBLISH
BEGIN:VEVENT
UID:20260425T134424-1805111233-netauktion.se
DTSTAMP:20260425T134424
DTSTART:20090515T011600
DTEND:20090515T011900
SUMMARY:Netauktion objekt 0128-133 Auktionspåminnelse
DESCRIPTION:Länk till objektet du var intresserad av: https://staging.netauktion.se/auktion/produkt/mindre-interaktiv-whiteboard-tavladigitalt-ritbord-4
END:VEVENT
END:VCALENDAR
