BEGIN:VCALENDAR
VERSION:2.0
PRODID:-//NetAuktion//NONSGML NetAuktion//SV
METHOD:PUBLISH
BEGIN:VEVENT
UID:20260421T104440-1615096348-netauktion.se
DTSTAMP:20260421T104440
DTSTART:20130328T001000
DTEND:20130328T001300
SUMMARY:Netauktion objekt 1338-013 Auktionspåminnelse
DESCRIPTION:Länk till objektet du var intresserad av: https://staging.netauktion.se/auktion/produkt/rep-lina-mm
END:VEVENT
END:VCALENDAR
