BEGIN:VCALENDAR
VERSION:2.0
PRODID:-//NetAuktion//NONSGML NetAuktion//SV
METHOD:PUBLISH
BEGIN:VEVENT
UID:20260421T102951-1656949755-netauktion.se
DTSTAMP:20260421T102951
DTSTART:20130329T011000
DTEND:20130329T011300
SUMMARY:Netauktion objekt 1377-034 Auktionspåminnelse
DESCRIPTION:Länk till objektet du var intresserad av: https://staging.netauktion.se/auktion/produkt/ultraljudstvatt-vbt-1200-3-2
END:VEVENT
END:VCALENDAR
