BEGIN:VCALENDAR
VERSION:2.0
PRODID:-//NetAuktion//NONSGML NetAuktion//SV
METHOD:PUBLISH
BEGIN:VEVENT
UID:20260421T102638-61411804-netauktion.se
DTSTAMP:20260421T102638
DTSTART:20080620T034500
DTEND:20080620T034800
SUMMARY:Netauktion objekt 0041-002 Auktionspåminnelse
DESCRIPTION:Länk till objektet du var intresserad av: https://staging.netauktion.se/auktion/produkt/volvo-460-s20-95-dly-314
END:VEVENT
END:VCALENDAR
