BEGIN:VCALENDAR
VERSION:2.0
PRODID:-//NetAuktion//NONSGML NetAuktion//SV
METHOD:PUBLISH
BEGIN:VEVENT
UID:20260421T102832-1753656845-netauktion.se
DTSTAMP:20260421T102832
DTSTART:20130531T020200
DTEND:20130531T020500
SUMMARY:Netauktion objekt 1146-212 Auktionspåminnelse
DESCRIPTION:Länk till objektet du var intresserad av: https://staging.netauktion.se/auktion/produkt/halsband-och-armband-amor-13
END:VEVENT
END:VCALENDAR
